BEGIN:VCALENDAR
VERSION:2.0
PRODID:https://github.com/derhansen/sf_event_mgt
METHOD:PUBLISH
BEGIN:VEVENT
UID:247-126@www.hgm.at
CLASS: PUBLIC
SUMMARY:Wo Ziegel auf den Bäumen wachsen
DESCRIPTION:Das Heeresgeschichtliche Museum im Wiener Arsenal beherbergt za
 hlreiche einzigartige Exponate aus der Frühen Neuzeit bis in die Gegenwart.
  Bei unserem Sommerprogramm wird aber der älteste Museumsbau der Stadt selb
 st Gegenstand der Betrachtung. Aus der Architektur und Baugeschichte lässt 
 sich das Zusammenspiel von Politik und Macht, Unterdrückung und Propaganda 
 herauslesen. Im Rahmen eines sommerlichen, frühabendlichen Rundganges blick
 en wir gemeinsam auf die atemberaubende Architektur von Theophil Hansen – s
 owohl innen als auch außen. Gemeinsam spüren wir spannende Geheimnisse und 
 skurrile Geschichten des Wiener Arsenals auf, fragen uns, wie die Feldherre
 n eigentlich in die „Feldherrenhalle“ kamen und wie es um den Ruhm in der „
 Ruhmeshalle“ eigentlich steht. Und Sie erfahren, warum das Arsenal wohl der
  einzige Ort der Welt ist, wo Ziegel auf den Bäumen wachsen.\n\nAuf alle Te
 ilnehmenden wartet anschließend ein erfrischendes Eis!  \n\nTicketpreis: 4 
 €, ermäßigt 2,50 €.
LOCATION:Heeresgeschichtliches Museum
DTSTAMP:20250624T083435Z
DTSTART:20250620T150000Z
DTEND:20250620T160000Z
END:VEVENT
END:VCALENDAR
