BEGIN:VCALENDAR
VERSION:2.0
PRODID:https://github.com/derhansen/sf_event_mgt
METHOD:PUBLISH
BEGIN:VEVENT
UID:66-126@www.hgm.at
CLASS: PUBLIC
SUMMARY:Warten aufs Christkind
DESCRIPTION:Damit die Wartezeit auf das Christkind verkürzt wird, wartet am
  24.12.2024 in der Ruhmeshalle des Heeresgeschichtlichen Museums ein großer
  Bastelbereich auf Groß und Klein. An sieben weihnachtlichen Bastelstatione
 n kann man zwischen 10 und 14 Uhr seiner Kreativität freien Lauf lassen. Ob
  Kekshäuschen, Bienenwachskerzen oder Weihnachtssterne, hier entstehen die 
 schönsten Weihnachtsüberraschungen zum Verschenken oder Behalten. \n\nMit e
 inem gültigen Museumsticket können alle Bastelstationen gratis besucht werd
 en. \n\nFür Punsch für Jung und Alt wird gesorgt! Kommt vorbei, es ist kein
 e Anmeldung erforderlich.\n\nDas Museum hat am 24.12. nur von 10 bis 14 Uhr
  geöffnet!\n\n© HGM Archiv: Bundesheer Pioniere beim Basteln von Weihnachts
 geschenken für “SOS - Kinderdorf”, 1965. 
LOCATION:Heeresgeschichtliches Museum
DTSTAMP:20250129T141908Z
DTSTART:20241224T090000Z
DTEND:20241224T130000Z
END:VEVENT
END:VCALENDAR
