BEGIN:VCALENDAR
VERSION:2.0
PRODID:https://github.com/derhansen/sf_event_mgt
METHOD:PUBLISH
BEGIN:VEVENT
UID:506-126@www.hgm.at
CLASS: PUBLIC
SUMMARY:Künstlerische Installation von Peter Kutin in Zusammenarbeit mit VD
 C 2026
DESCRIPTION:Alone or Together?\n\nDie digitale Welt erzeugt Nähe und Distan
 z zugleich – neue Gemeinschaften ebenso wie Einsamkeit. Am Eröffnungswochen
 ende (22.–24.5.2026) setzt sich das Festival Vienna Digital Cultures (VDC) 
 anhand von Performances und Diskursprogrammen im Arsenal sowie an den Stand
 orten des Heeresgeschichtlichen Museums (HGM) und des FOTO ARSENAL WIEN (FA
 W) mit Installationen, Aktionen und Screenings auseinander.\n\n21.5. bis 24
 .5.2026, PanzerhalleLicht- und Soundinstallation\n\nÖffnungszeiten:\n\nDo, 
 21. Mai: 09:00 – 22:00 UhrFr, 22. Mai: 09:00 – 19:00 Uhr / 18:00 – 18:45 Uh
 r Live-PerformanceSa, 23. Mai: 09:00 – 19:00 UhrSo, 24. Mai: 09:00 – 19:00 
 UhrIn Partnerschaft mit Vienna Digital Cultures, weitere Informationen: www
 .viennadigitalcultures.at.\n\n© Bild Eventübersicht: VDC
LOCATION:Panzerhalle
DTSTAMP:20260409T120912Z
DTSTART:20260521T070000Z
DTEND:20260524T170000Z
END:VEVENT
END:VCALENDAR
