BEGIN:VCALENDAR
VERSION:2.0
PRODID:https://github.com/derhansen/sf_event_mgt
METHOD:PUBLISH
BEGIN:VEVENT
UID:349-126@www.hgm.at
CLASS: PUBLIC
SUMMARY:„Ich bin Ruth"
DESCRIPTION:Suse Lichtenberger, Anna Kramer und Claudia Kottal lesen aus ih
 rem Theaterstück „Ich bin Ruth“. Das Stück beruht auf berührenden, aber auc
 h humorvollen persönlichen Tagebucheinträgen von Ruth Maier, welche ihre Le
 bensgefährtin,  die norwegische Lyrikerin Gunvor Hofmo bis zu ihrem Tod 199
 5 aufbewahrte. Ruth Maier wird 1920 in Wien geboren und erlebt als Jugendli
 che den sogenannten Anschluss Österreichs an das Deutsche Reich, bevor sie 
 nach ihrer Flucht nach Norwegen mit nur 22 Jahren nach Auschwitz deportiert
  und ermordet wurde. \n\nEintritt frei, Anmeldung für die Eröffnungsveranst
 altung erforderlich. Bitte weisen Sie Ihren QR-Code beim Einlass vor. \n\nD
 ie Ausstellung „Das kurze Leben der Ruth Maier“ findet in Kooperation mit d
 em Dokumentationsarchiv des österreichischen Widerstandes (DÖW) von 18. Sep
 tember 2025 bis 15. Oktober 2026 im Äußeren Burgtor der Wiener Hofburg am H
 eldenplatz statt.\n\nDetails zu Vermittlungsangeboten und Öffnungszeiten fi
 nden Sie hier.
LOCATION:Äußeres Burgtor
DTSTAMP:20250916T141551Z
DTSTART:20250917T160000Z
DTEND:20250917T173000Z
END:VEVENT
END:VCALENDAR
