BEGIN:VCALENDAR
VERSION:2.0
PRODID:https://github.com/derhansen/sf_event_mgt
METHOD:PUBLISH
BEGIN:VEVENT
UID:172-126@www.hgm.at
CLASS: PUBLIC
SUMMARY:„Das Museum im Museum“ – 70 Jahre Saal 1 und 2 und wie es weitergeh
 t
DESCRIPTION:Aufgrund notwendiger Sanierungen schließen wir mit 10. Februar 
 2025 die Säle 1 und 2 im 1. Stock des Museums.Führungsticket frei zzgl. Mus
 eumsticket, Anmeldung erforderlich aufgrund des begrenzten Teilnahmekonting
 ents. \n\n\n\n
LOCATION:Heeresgeschichtliches Museum
DTSTAMP:20250209T131414Z
DTSTART:20250209T140000Z
DTEND:20250209T153000Z
END:VEVENT
END:VCALENDAR
