BEGIN:VCALENDAR
VERSION:2.0
PRODID:https://github.com/derhansen/sf_event_mgt
METHOD:PUBLISH
BEGIN:VEVENT
UID:195-126@www.hgm.at
CLASS: PUBLIC
SUMMARY:Die Schlafwandler
DESCRIPTION:Diese Führung mit HGM-Kulturvermittlerin Stephanie Ziehaus bele
 uchtet entscheidende Wendepunkte der Habsburgermonarchie – vom Ausgleich mi
 t Ungarn 1867 über das Attentat von 1914 bis zum Zusammenbruch der Monarchi
 en und der Neuordnung Europas 1918. Erfahren Sie, wie die Urkatastrophe des
  20. Jahrhunderts zustande kam, verlief und welche Auswirkungen diese auf d
 en weiteren Verlauf der Geschichte hatte. \n\nAnmeldung ist nicht erforderl
 ich, Führungsticket € 4 zzgl. Museumsticket.
LOCATION:Heeresgeschichtliches Museum
DTSTAMP:20250225T081850Z
DTSTART:20250330T090000Z
DTEND:20250330T103000Z
END:VEVENT
END:VCALENDAR
