BEGIN:VCALENDAR
VERSION:2.0
PRODID:https://github.com/derhansen/sf_event_mgt
METHOD:PUBLISH
BEGIN:VEVENT
UID:449-126@www.hgm.at
CLASS: PUBLIC
SUMMARY:Der Krieg in der Kunst
DESCRIPTION:Die Themenführung widmet sich der Darstellung von Krieg, Macht 
 und Heldentum in der Malerei des 19. und frühen 20. Jahrhunderts. Anhand au
 sgewählter Werke wird sichtbar, wie sich der Blick auf das Kriegsgeschehen 
 wandelte – von heroischen Schlachtendarstellungen der napoleonischen Ära hi
 n zu zunehmend realistischen und kritischen Schilderungen des Ersten Weltkr
 iegs. Die Führung zeigt, wie Kunst nicht nur historische Ereignisse dokumen
 tierte, sondern auch das sich verändernde Verhältnis zwischen Individuum, N
 ation und Gewalt reflektierte. Eine Führung mit Monika Wandl, HGM-Kulturver
 mittlerin.\n\nDauer ca. 90 Minuten. Anmeldung ist nicht erforderlich, Führu
 ngsticket € 4 zzgl. Museumsticket.                                         
                                                                            
                                                                            
                           
LOCATION:Heeresgeschichtliches Museum
DTSTAMP:20251203T135711Z
DTSTART:20260125T100000Z
DTEND:20260125T113000Z
END:VEVENT
END:VCALENDAR
